BEGIN:VCALENDAR
VERSION:2.0
PRODID:-//hacksw/handcal//NONSGML v1.0//EN
BEGIN:VEVENT
UID:71e2015afb8a86610e9e7e85cb71a553
DTSTAMP:20260420T161031Z

DTSTART:20241005T070000
DTEND:20241006T190000
SUMMARY:Осенний Тряскотлон
DESCRIPTION:Первые выходные октября уже на носу, и вам нечем заняться? Забудьте про скучные пикники и удобные диваны! Приглашаем вас на незабываемое двухдневное путешествие по самой восхитительной "жемчужине" Витебской области — Обольским болотам! Обольские или Козьянские болота на границе Шумилинского и Полоцкого районов – это «просто космос»! В этом уголке Беларуси можно увидеть такие картины, что кажется, будто оказался среди кратеров Меркурия. \nУникальная возможность узнать, что означает прокладывание «тропы» там, где никогда и в помине не было дорог. Вас ждут встречи с редкими птицами, которые будут на нас смотреть с недоверием, потому что нормальные люди в это время года вообще по болотам не лазают. Надеюсь, будет дождь и ветер, хотя прогноз не обещает. Но самое главное - никаких удобств, кроме мокрых ног и, возможно, запоздалого сожаления!\n\nЗвучит заманчиво? Тогда присоединяйтесь к нам! Шанс протестировать свою терпимость и выносливость в условиях дикой природы гарантирован. \n\nСпешите записаться, количество мест ограничено здравым смыслом. 

X-ALT-DESC;FMTTYPE=text/html:<!DOCTYPE HTML PUBLIC "-//W3C//DTD HTML 3.2//EN">\n<HTML>\n<HEAD>\n<META NAME="Generator" CONTENT="MS Exchange Server version 08.00.0681.000">\n<TITLE></TITLE>\n</HEAD>\n<BODY>\n<!-- Converted from text/rtf format -->\n\nПервые выходные октября уже на носу, и вам нечем заняться? Забудьте про скучные пикники и удобные диваны! Приглашаем вас на незабываемое двухдневное путешествие по самой восхитительной "жемчужине" Витебской области — Обольским болотам! Обольские или Козьянские болота на границе Шумилинского и Полоцкого районов – это «просто космос»! В этом уголке Беларуси можно увидеть такие картины, что кажется, будто оказался среди кратеров Меркурия. <br />Уникальная возможность узнать, что означает прокладывание «тропы» там, где никогда и в помине не было дорог. Вас ждут встречи с редкими птицами, которые будут на нас смотреть с недоверием, потому что нормальные люди в это время года вообще по болотам не лазают. Надеюсь, будет дождь и ветер, хотя прогноз не обещает. Но самое главное - никаких удобств, кроме мокрых ног и, возможно, запоздалого сожаления!<br /><br />Звучит заманчиво? Тогда присоединяйтесь к нам! Шанс протестировать свою терпимость и выносливость в условиях дикой природы гарантирован. <br /><br />Спешите записаться, количество мест ограничено здравым смыслом. \n\n</BODY>\n</HTML>

LOCATION:Козьяны, Витебская область, Беларусь
END:VEVENT

END:VCALENDAR
