BEGIN:VCALENDAR
VERSION:2.0
PRODID:-//hacksw/handcal//NONSGML v1.0//EN
BEGIN:VEVENT
UID:97d7537f84a1bc962e526bae822f6709
DTSTAMP:20260421T052455Z

DTSTART:20220709T150000
DTEND:20220710T150000
SUMMARY:93Б: 8-10 июля 2022 «Лишь Мнюта» 60 км
DESCRIPTION:Длинные водные маршруты Беларуси практикуется в Магадане проходить за несколько ПВД. Тому примеры Птичь, Оболь, Дриса. Шоша, запланированная на ПВД 93А, впадает в озеро Плиссо. Оттуда вытекает другая река – Мнюта. Мнюта – логическое продолжение Шошы, но совершенно другая. По Шоше ходят, пожалуй, больше. Медлительная и зарастающая Шоша протекает лесами, через Голубицкую Пущу. От Магадана мы путешествовали в самые разные пущи, но в Голубицкой не были никогда. \nНаша следующая река лишь Мнюта, ну, и самый малый кусочег Дисны. Пробивается эта небольшая река генеральным направлением на северо-запад сквозь Свентянскую Гряду. Вместо не выраженной долины и низких заболоченных покрытых лесом берегов, ждут нас высокие склоны, перекаты, охуенные валуны в русле. Оно исключительно живописно, многолико и динамично. Встретятся по пути два русловых озера. Озеро, одноименное с рекой Мнюта и следующее озеро Вялец. В хозяйственных целях беларусы использовали Мнюту и ее положение с узкой долиной. По пути ряд мельничных плотин. В некоторых местах условия позволяют спрыгнуть, вот как на знаменитой Страче – любимая река Озеринского. Более того, по берегам открывается взору ряд уникальных реликтов – объекты ледниковой деятельности с древними обнажениями. Русло нельзя назвать залесенным, но оно сокрыто в глубокой долине и отделено от людского присутствия растительностью. Незабываемые впечатления подарила в свое время тоже вроде бы как малолесная нижняя Свольна. Лагерь по середине трека – из 60 километров на 33-ем. В отличие от предыдущего ПВД условия для подъезда матрацных формирований и группы моральной поддержки и технического обеспечения есть неплохие.\nНа 56-ом километре пути впадаем в реку Дисна. Продолжать по прямоточной унылой луговой Дисне малопривлекательно. Поэтому завершаем через четыре километра. Антистапель в деревне Германовичи. \nБюджет дорогой. Логистичкие расходы рублей 70. Аренда байдарок 100 за лодку за выходные. С группами теперь хожу камерными. 6-10 участников. Дополнительных желающих берем. Для летописцев и фотографов предусмотрены преференции. Запись через Глаза в одно окно с помощью вайбер или телеграм. Просьба не звонить. 11 июля в понедельник совсем не звонить. \nМира и добра в Ваши сердца!\nФотографии из сети\n

X-ALT-DESC;FMTTYPE=text/html:<!DOCTYPE HTML PUBLIC "-//W3C//DTD HTML 3.2//EN">\n<HTML>\n<HEAD>\n<META NAME="Generator" CONTENT="MS Exchange Server version 08.00.0681.000">\n<TITLE></TITLE>\n</HEAD>\n<BODY>\n<!-- Converted from text/rtf format -->\n\nДлинные водные маршруты Беларуси практикуется в Магадане проходить за несколько ПВД. Тому примеры Птичь, Оболь, Дриса. Шоша, запланированная на ПВД 93А, впадает в озеро Плиссо. Оттуда вытекает другая река – Мнюта. Мнюта – логическое продолжение Шошы, но совершенно другая. По Шоше ходят, пожалуй, больше. Медлительная и зарастающая Шоша протекает лесами, через Голубицкую Пущу. От Магадана мы путешествовали в самые разные пущи, но в Голубицкой не были никогда. <br />Наша следующая река лишь Мнюта, ну, и самый малый кусочег Дисны. Пробивается эта небольшая река генеральным направлением на северо-запад сквозь Свентянскую Гряду. Вместо не выраженной долины и низких заболоченных покрытых лесом берегов, ждут нас высокие склоны, перекаты, охуенные валуны в русле. Оно исключительно живописно, многолико и динамично. Встретятся по пути два русловых озера. Озеро, одноименное с рекой Мнюта и следующее озеро Вялец. В хозяйственных целях беларусы использовали Мнюту и ее положение с узкой долиной. По пути ряд мельничных плотин. В некоторых местах условия позволяют спрыгнуть, вот как на знаменитой Страче – любимая река Озеринского. Более того, по берегам открывается взору ряд уникальных реликтов – объекты ледниковой деятельности с древними обнажениями. Русло нельзя назвать залесенным, но оно сокрыто в глубокой долине и отделено от людского присутствия растительностью. Незабываемые впечатления подарила в свое время тоже вроде бы как малолесная нижняя Свольна. Лагерь по середине трека – из 60 километров на 33-ем. В отличие от предыдущего ПВД условия для подъезда матрацных формирований и группы моральной поддержки и технического обеспечения есть неплохие.<br />На 56-ом километре пути впадаем в реку Дисна. Продолжать по прямоточной унылой луговой Дисне малопривлекательно. Поэтому завершаем через четыре километра. Антистапель в деревне Германовичи. <br />Бюджет дорогой. Логистичкие расходы рублей 70. Аренда байдарок 100 за лодку за выходные. С группами теперь хожу камерными. 6-10 участников. Дополнительных желающих берем. Для летописцев и фотографов предусмотрены преференции. Запись через Глаза в одно окно с помощью вайбер или телеграм. Просьба не звонить. 11 июля в понедельник совсем не звонить. <br />Мира и добра в Ваши сердца!<br />Фотографии из сети<br />\n\n</BODY>\n</HTML>

LOCATION:
END:VEVENT

END:VCALENDAR
